BEGIN:VCALENDAR
VERSION:2.0
PRODID:-//Tukios.com/
BEGIN:VEVENT
UID:d7e7e4f9-d284-4df0-9384-321337b9611f@www.vedderscottzinger.com
DTSTAMP:20260421T210347Z
DTSTART:20260424T170000Z
DTEND:20260424T190000Z
SUMMARY:Visitation
DESCRIPTION:
URL:https://www.vedderscottzinger.com/obituaries/jalyssa-bohart
LOCATION:Vedder-Scott & Zinger Funeral Home 122 N. Genesee St.  Montour 
	Falls NY 14865
GEO:42.3460907;-76.8502717
END:VEVENT
END:VCALENDAR