BEGIN:VCALENDAR
VERSION:2.0
PRODID:-//Tukios.com/
BEGIN:VEVENT
UID:757250fb-4da1-456b-be78-3a15b9271101@www.vedderscottzinger.com
DTSTAMP:20260421T210219Z
DTSTART:20260424T190000Z
DTEND:20260424T200000Z
SUMMARY:Celebration of Life
DESCRIPTION:
URL:https://www.vedderscottzinger.com/obituaries/jalyssa-bohart
LOCATION:Burdett Volunteer Fire Department 4124 Lake Avenue  Burdett NY 
	14818
GEO:42.4213053;-76.8377913
END:VEVENT
END:VCALENDAR