BEGIN:VCALENDAR
VERSION:2.0
PRODID:-//Tukios.com/
BEGIN:VEVENT
UID:be2702ac-6d3b-4d7d-86c3-eb86e6d28be6@www.vedderscottzinger.com
DTSTAMP:20260421T205950Z
DTSTART:20260424T190000Z
DTEND:20260424T200000Z
SUMMARY:Memorial Service
DESCRIPTION:
URL:https://www.vedderscottzinger.com/obituaries/jalyssa-bohart
LOCATION: 122 N. Genesee St.  Montour Falls NY 14865
GEO:42.3460907;-76.8502717
END:VEVENT
END:VCALENDAR