BEGIN:VCALENDAR
VERSION:2.0
PRODID:-//Tukios.com/
BEGIN:VEVENT
UID:2c800fc5-ba5e-4e28-b3ea-2e4c45726f18@www.vedderscottzinger.com
DTSTAMP:20260424T183131Z
DTSTART:20260516T170000Z
DTEND:20260516T210000Z
SUMMARY:Celebration of Life
DESCRIPTION:
URL:https://www.vedderscottzinger.com/obituaries/roger-townsend
LOCATION:American Legion 4431 E Seneca Rd  Trumansburg NY 14886
GEO:42.5482059;-76.6724362
END:VEVENT
END:VCALENDAR